BEGIN:VCALENDAR
VERSION:2.0
PRODID:-//www.mypineview.org//NONSGML kigkonsult.se iCalcreator 2.39.1//
CALSCALE:GREGORIAN
METHOD:PUBLISH
UID:d24308ab-6a39-4e32-85ad-e8baef94dbcb
X-WR-CALNAME:www.mypineview.org
X-WR-CALDESC:www.mypineview.org
X-WR-TIMEZONE:America/Los_Angeles
X-LIC-LOCATION:America/Los_Angeles
BEGIN:VEVENT
UID:29d222fe-3081-4140-a795-386d649a5728
DTSTAMP:20260423T130405Z
CLASS:PUBLIC
DTSTART;TZID=America/Los_Angeles:20240606T190000
DTEND;TZID=America/Los_Angeles:20240606T200000
SUMMARY:Young Adults
TRANSP:OPAQUE
BEGIN:VALARM
ACTION:DISPLAY
DESCRIPTION:Young Adults
TRIGGER:-PT15M
END:VALARM
END:VEVENT
END:VCALENDAR
